BEGIN:VCALENDAR
VERSION:2.0
PRODID:-//Charlosa&#039;s Rum, Cachaça and Cocktails Blog - ECPv6.6.3//NONSGML v1.0//EN
CALSCALE:GREGORIAN
METHOD:PUBLISH
X-WR-CALNAME:Charlosa&#039;s Rum, Cachaça and Cocktails Blog
X-ORIGINAL-URL:https://rum.charlosa.com/blog
X-WR-CALDESC:Events for Charlosa&#039;s Rum, Cachaça and Cocktails Blog
REFRESH-INTERVAL;VALUE=DURATION:PT1H
X-Robots-Tag:noindex
X-PUBLISHED-TTL:PT1H
BEGIN:VTIMEZONE
TZID:Europe/London
BEGIN:DAYLIGHT
TZOFFSETFROM:+0000
TZOFFSETTO:+0100
TZNAME:BST
DTSTART:20120325T010000
END:DAYLIGHT
BEGIN:STANDARD
TZOFFSETFROM:+0100
TZOFFSETTO:+0000
TZNAME:GMT
DTSTART:20121028T010000
END:STANDARD
BEGIN:DAYLIGHT
TZOFFSETFROM:+0000
TZOFFSETTO:+0100
TZNAME:BST
DTSTART:20130331T010000
END:DAYLIGHT
BEGIN:STANDARD
TZOFFSETFROM:+0100
TZOFFSETTO:+0000
TZNAME:GMT
DTSTART:20131027T010000
END:STANDARD
BEGIN:DAYLIGHT
TZOFFSETFROM:+0000
TZOFFSETTO:+0100
TZNAME:BST
DTSTART:20140330T010000
END:DAYLIGHT
BEGIN:STANDARD
TZOFFSETFROM:+0100
TZOFFSETTO:+0000
TZNAME:GMT
DTSTART:20141026T010000
END:STANDARD
END:VTIMEZONE
BEGIN:VEVENT
DTSTART;TZID=Europe/London:20141012T120000
DTEND;TZID=Europe/London:20141012T180000
DTSTAMP:20260419T235800
CREATED:20140926T185025Z
LAST-MODIFIED:20140926T185025Z
UID:2030-1413115200-1413136800@rum.charlosa.com
SUMMARY:RumFest 2014 (Sunday)
DESCRIPTION:UK RUMFEST returns to the capital for its Eighth outing where visitors will be invited to embark on a journey of rum discovery. This year’s show again will be different from last year’s show with new ticketing system providing an incredible experience catering for discerning connoisseurs. Welcome to the UK’s Premium Rum Experience – The RUMFEST. \nThis year’s RUMFEST will once again showcase over 400 of the most diverse rums from across the globe as well as a few very special treasures that will take part in our ‘Golden Tot’ initiative. Please read more about our ‘Golden Tots’ in About Rumfest.Features will again include intimate seminars hosted by industry aficionados\, a main stage with mouth-watering food from all over the world as well main stage presentations\, holiday giveaways and live music and dancing during our “Carnival Hour”! \nRUMFEST kicks off on October 11th-12th.\nTimings: 12-6pm with last pours at 6pm. \nTickets and more information can be found at rumfest.co.uk. \nTicket prices: \n• Saturday: £49.95 + booking fee\n• Sunday: £49.95 + booking fee\n• Weekend Tickets: £89.90 + booking fee \n 
URL:https://rum.charlosa.com/blog/event/rumfest-2014-sunday
LOCATION:ILEC Conference Centre\, 47 Lillie Road\, London\, SW6 1UD\, United Kingdom
CATEGORIES:Rum Show
ORGANIZER;CN="The Rum Experience":MAILTO:info@rumfest.co.uk
END:VEVENT
BEGIN:VEVENT
DTSTART;TZID=Europe/London:20141011T120000
DTEND;TZID=Europe/London:20141011T180000
DTSTAMP:20260419T235800
CREATED:20140903T222115Z
LAST-MODIFIED:20140926T185100Z
UID:1958-1413028800-1413050400@rum.charlosa.com
SUMMARY:RumFest 2014 (Saturday)
DESCRIPTION:UK RUMFEST returns to the capital for its Eighth outing where visitors will be invited to embark on a journey of rum discovery. This year’s show again will be different from last year’s show with new ticketing system providing an incredible experience catering for discerning connoisseurs. Welcome to the UK’s Premium Rum Experience – The RUMFEST. \nThis year’s RUMFEST will once again showcase over 400 of the most diverse rums from across the globe as well as a few very special treasures that will take part in our ‘Golden Tot’ initiative. Please read more about our ‘Golden Tots’ in About Rumfest.Features will again include intimate seminars hosted by industry aficionados\, a main stage with mouth-watering food from all over the world as well main stage presentations\, holiday giveaways and live music and dancing during our “Carnival Hour”! \nRUMFEST kicks off on October 11th-12th.\nTimings: 12-6pm with last pours at 6pm. \nTickets and more information can be found at rumfest.co.uk. \nTicket prices: \n• Saturday: £49.95 + booking fee\n• Sunday: £49.95 + booking fee\n• Weekend Tickets: £89.90 + booking fee \n 
URL:https://rum.charlosa.com/blog/event/rumfest-2014-saturday
LOCATION:ILEC Conference Centre\, 47 Lillie Road\, London\, SW6 1UD\, United Kingdom
CATEGORIES:Rum Show
END:VEVENT
BEGIN:VEVENT
DTSTART;VALUE=DATE:20140916
DTEND;VALUE=DATE:20140918
DTSTAMP:20260419T235800
CREATED:20140903T224901Z
LAST-MODIFIED:20140903T224901Z
UID:1961-1410825600-1410998399@rum.charlosa.com
SUMMARY:Boutique Bar Show 2014 – London
DESCRIPTION:The Boutique Bar Show exclusively promotes new and high quality drinks brands to the UK drinks industry. At each event you will find interesting products that can benefit your business\, take inspiration from world leading speakers and develop important new business contacts within our intimate show atmosphere. \nHosted in beautiful buildings around the country the ethos of The Boutique Bar Show is to provide all of our exhibitors with equal size stands to allow the products to take centre stage. With a focus on quality over quantity we guarantee our discerning visitors fantastic products on every stand in a business friendly environment. \nSmall\, independent and quality focussed please join me at this year’s Boutique Bar Show London. \nAndrew Scutts \nTuesday 16th Sept 11.00 – 17.00\nWednesday 17th Sept: 11.00 – 17.00
URL:https://rum.charlosa.com/blog/event/boutique-bar-show-2014-london
LOCATION:The Camden Centre\, Town Hall\, Judd Street\, London\, WC1H 9JE\, United Kingdom
CATEGORIES:Rum Show
ORGANIZER;CN="Boutique Bar Show":MAILTO:info@boutiquebarshow.com
END:VEVENT
BEGIN:VEVENT
DTSTART;TZID=Europe/London:20140608T120000
DTEND;TZID=Europe/London:20140608T200000
DTSTAMP:20260419T235800
CREATED:20140506T171830Z
LAST-MODIFIED:20140506T171830Z
UID:1947-1402228800-1402257600@rum.charlosa.com
SUMMARY:Ron Montero Festival 2014 – Day 3
DESCRIPTION:Three-day Ron Montero Festival launches on tropical coast of Granada\, Spain. \nPurveyors of premium rum celebrate rum culture with interactive tours\, mixology classes\, live music\, parties and more at the Ron Montero Festival held on the 6th\, 7th & 8th June 2014 in Motril\, Granada. \nDay 3 (Sunday 8th June) Programme \n12:00 Awards ceremony for best tapa\, best menu and best cocktail as rated by users of the mobile application. Contest prizes for fast painting and mobile phone photography will also be handed out. \nTapas Trail: routes around the various dining options in the city\, with a special Ron Montero tapas tasting created for the occasion.
URL:https://rum.charlosa.com/blog/event/ron-montero-festival-2014-day-3
LOCATION:Ron Montero Festival\, Motril\, Granada\, Spain
CATEGORIES:Rum Show
END:VEVENT
BEGIN:VEVENT
DTSTART;TZID=Europe/London:20140607T090000
DTEND;TZID=Europe/London:20140607T230000
DTSTAMP:20260419T235800
CREATED:20140506T171337Z
LAST-MODIFIED:20140506T171337Z
UID:1946-1402131600-1402182000@rum.charlosa.com
SUMMARY:Ron Montero Festival 2014 – Day 2
DESCRIPTION:Three-day Ron Montero Festival launches on tropical coast of Granada\, Spain. \nPurveyors of premium rum celebrate rum culture with interactive tours\, mixology classes\, live music\, parties and more at the Ron Montero Festival held on the 6th\, 7th & 8th June 2014 in Motril\, Granada \nDay 2 (Saturday 7th June) Programme \n9:00  Fast painting contest and canvas sealing in The Motril Tourist Office and delivery before 18:00\, at the same place. \n10:00    Amateur cocktail workshop at Oleaje. \n12:00  The Taramela Parade celebrating the end of sugar cane harvest season will pass through the center of Motril (Camino de las Cañas\, Calle Nueva) and end at the square where the Autonomous Communities will have real monderos share anecdotes and experiences. \nTapas Trail: routes around the various dining options in the city\, with a special Ron Montero tapas tasting created for the occasion. \nSweet Trail: route throughout different local bakeries\, enjoying local sweets and desserts. \nFree time to explore the Cultural Trail. \nNight Trail: route through various nightclubs and entertainment venues in the city\, while sipping Rum Montero cocktails made for the occasion. Theme parties in pubs throughout the city.
URL:https://rum.charlosa.com/blog/event/ron-montero-festival-2014-day-2
LOCATION:Ron Montero Festival\, Motril\, Granada\, Spain
CATEGORIES:Rum Show
END:VEVENT
BEGIN:VEVENT
DTSTART;TZID=Europe/London:20140606T170000
DTEND;TZID=Europe/London:20140606T230000
DTSTAMP:20260419T235800
CREATED:20140506T170923Z
LAST-MODIFIED:20140506T170923Z
UID:1944-1402074000-1402095600@rum.charlosa.com
SUMMARY:Ron Montero Festival 2014 - Day 1
DESCRIPTION:Three-day Ron Montero Festival launches on tropical coast of Granada\, Spain. \nPurveyors of premium rum celebrate rum culture with interactive tours\, mixology classes\, live music\, parties and more at the Ron Montero Festival held on the 6th\, 7th & 8th June 2014 in Motril\, Granada \nDay 1 (Friday 6th June) Programme \n17:00 Amateur cocktail workshop at Oleaje. \n19:00 Lecture on sugar cane in Motril at The Pre -Industrial Sugar Cane Museum. \n20:00 Poetry readings on sugar cane at Plaza de las Armas. \nTapas Trail: routes around the various dining options in the city\, with a special Ron Montero tapas tasting created for the occasion. \nNight Trail: route through various nightclubs and entertainment venues in the city\, while sipping Rum Montero cocktails made for the occasion. Theme parties in pubs throughout the city.
URL:https://rum.charlosa.com/blog/event/ron-montero-festival-2014-day-1
LOCATION:Ron Montero Festival\, Motril\, Granada\, Spain
CATEGORIES:Rum Show
END:VEVENT
BEGIN:VEVENT
DTSTART;TZID=Europe/London:20131012T120000
DTEND;TZID=Europe/London:20131012T213000
DTSTAMP:20260419T235800
CREATED:20131007T213610Z
LAST-MODIFIED:20131007T213610Z
UID:1862-1381579200-1381613400@rum.charlosa.com
SUMMARY:London Cocktail Week 2013 - Zacapa Above the Clouds
DESCRIPTION:After an immersive afternoon as an exclusive guest of RumFest\, you will be chaffeur driven to Oblix at The Shard where you will enjoy a three-course dinner and bespoke Zacapa Rum cocktails ‘Above The Clouds’. \nSupper will be hosted by Daniel Dove\, the UK Zacapa Rum Ambassador\, who has created a specially paired cocktail menu to accompany the food. \nBoth tickets will available to collect from ExCel. \nSupper starts at 7pm will be hosted at; \nOblix\, Level 32\,\nThe Shard\n31 St Thomas Street\nLondon
URL:https://rum.charlosa.com/blog/event/london-cocktail-week-2013-zacapa-above-the-clouds
LOCATION:ExCel London\, 1 Western Gateway\, Royal Victoria Dock\, London\, E16 1XL\, United Kingdom
CATEGORIES:Rum Show,Rum Tasting
END:VEVENT
BEGIN:VEVENT
DTSTART;VALUE=DATE:20131012
DTEND;VALUE=DATE:20131014
DTSTAMP:20260419T235800
CREATED:20130612T215118Z
LAST-MODIFIED:20131007T213811Z
UID:1724-1381536000-1381708799@rum.charlosa.com
SUMMARY:RumFest 2013
DESCRIPTION:UK RUMFEST returns to the capital for its seventh outing where visitors will be invited to embark on a journey of rum discovery. This year’s show will be a little different with a brand new ticketing system providing a tailor made incredible experience catering for discerning connoisseurs and casual enthusiasts alike. \nThis year’s UK RUMFEST will once again showcase over 400 of the rarest and most diverse rums from across the globe as well as feature intimate seminars hosted by industry aficionados\, an extended Tropical Food Market with mouth-watering food from all over the world\, plus live music and main stage presentations and holiday giveaways. \nRUMFEST kicks off on October 12th-13th.\nTimings: 12-5pm with last pours at 4.30pm. \nTickets and more information can be found at rumfest.co.uk. \nTicket prices: \n• Standard Saturday: £25 + booking fee\n• Premium Saturday (inc. Connoisseur’s Cove): £45 + booking fee\n• Standard Sunday: £25 + booking fee\n• Premium Sunday (inc. Connoisseur’s Cove): £45 + booking fee\n• Weekend Tickets (inc. Connoisseur’s Cove): £80 + booking fee
URL:https://rum.charlosa.com/blog/event/rumfest-2013
LOCATION:ExCel London\, Royal Victoria Dock\, London\, London\, E16 1XL\, United Kingdom
CATEGORIES:Rum Show
END:VEVENT
BEGIN:VEVENT
DTSTART;VALUE=DATE:20130924
DTEND;VALUE=DATE:20130926
DTSTAMP:20260419T235800
CREATED:20130612T214606Z
LAST-MODIFIED:20130612T214606Z
UID:1720-1379980800-1380153599@rum.charlosa.com
SUMMARY:Boutique Bar Show 2013 – London
DESCRIPTION:Moving into a prime zone 1 central location just a minute away from Holborn Tube in the beautiful Victoria House on Bloomsbury Square descend through the pop up shop on Southampton Row into the urban cool design space of the B1 Block. A new space for a new look show in 2013.
URL:https://rum.charlosa.com/blog/event/boutique-bar-show-2013-london
LOCATION:Victoria House Basement\, Southampton Row\, London\, London\, WC1B 4DA\, United Kingdom
CATEGORIES:Rum Show
ORGANIZER;CN="Boutique Bar Show":MAILTO:info@boutiquebarshow.com
END:VEVENT
BEGIN:VEVENT
DTSTART;VALUE=DATE:20130702
DTEND;VALUE=DATE:20130704
DTSTAMP:20260419T235800
CREATED:20130612T213008Z
LAST-MODIFIED:20130612T213008Z
UID:1715-1372723200-1372895999@rum.charlosa.com
SUMMARY:Imbibe Live 2013
DESCRIPTION:Imbibe Live is the intelligent\, annual exhibition for anyone who sources\, buys or serves drinks in the licensed on-trade and is keen to improve their offering and knowledge. \nThis is the one and only event that focuses on the entire world of on-trade specific drinks: from wines\, beers and spirits\, to cocktails\, soft drinks\, mixers\, tea\, coffee\, waters and other associated products. \nLaunched in 2010\, Imbibe Live has now firmly established itself as the must-attend exhibition for the premium on-trade. Imbibe Live 2012 welcomed nearly 8\,000 top on-trade buyers\, managers\, owners and key pourers from around the UK. Visitors were introduced to 1\,000+ drinks brands and attended nearly 50 different tastings\, demonstrations and seminars. \nImbibe Live 2013 will return on 2nd & 3rd July at Olympia. Don’t miss the opportunity to visit an interactive\, dynamic exhibition\, full of inspirational ideas\, invaluable networking opportunities\, and an unrivalled tasting and education programme.
URL:https://rum.charlosa.com/blog/event/imbibe-live-2013
LOCATION:Olympia\, Hammersmith Road\, London\, London\, W14 8UX\, United Kingdom
CATEGORIES:Rum Show
END:VEVENT
BEGIN:VEVENT
DTSTART;TZID=Europe/London:20121023T110000
DTEND;TZID=Europe/London:20121023T170059
DTSTAMP:20260419T235800
CREATED:20120129T224813Z
LAST-MODIFIED:20120129T224813Z
UID:1450-1350990000-1351011659@rum.charlosa.com
SUMMARY:Boutique Bar Show 2012 - Glasgow
DESCRIPTION:A hidden gem within Glasgow’s bustling Merchant City and home to the BBC Scottish Symphony Orchestra. High vaulted wooden ceiling; cast iron archways\, columns and balcony this stunning venue retains it’s original period charms and is one of the finest event venues in the city.
URL:https://rum.charlosa.com/blog/event/boutique-bar-show-2012-glasgow
LOCATION:The Old Fruit Markets\, Candleriggs\, Glasgow\, G1 1NQ\, United Kingdom
CATEGORIES:Rum Show
ORGANIZER;CN="Boutique Bar Show":MAILTO:info@boutiquebarshow.com
END:VEVENT
BEGIN:VEVENT
DTSTART;TZID=Europe/London:20121013T120000
DTEND;TZID=Europe/London:20121014T170000
DTSTAMP:20260419T235800
CREATED:20120225T084929Z
LAST-MODIFIED:20121010T000745Z
UID:1494-1350129600-1350234000@rum.charlosa.com
SUMMARY:Boutique RumFest 2012
DESCRIPTION:The Trade only Boutique RumFest is back again for 2012.
URL:https://rum.charlosa.com/blog/event/boutique-rumfest-2012
LOCATION:The ExCel Exhibition Centre\, One Western Gateway Royal Victoria Dock\, London\, London\, E16 1XL\, United Kingdom
CATEGORIES:Rum Show
END:VEVENT
BEGIN:VEVENT
DTSTART;TZID=Europe/London:20121013T110000
DTEND;TZID=Europe/London:20121014T170000
DTSTAMP:20260419T235800
CREATED:20120124T003540Z
LAST-MODIFIED:20121010T000909Z
UID:1379-1350126000-1350234000@rum.charlosa.com
SUMMARY:RumFest 2012
DESCRIPTION:After what will be a great Olympics in London\, The Rum Experience brings you the Olympics of rum events. Join over 6500 people who will be sipping savoring rums from all over the world. There’ll be Caribbean food\, dancing\, music\, cocktail master classes\, holiday giveaways plus much more at the world’s BIGGEST festival of rum.
URL:https://rum.charlosa.com/blog/event/rumfest-2012
LOCATION:ExCel London\, Royal Victoria Dock\, London\, London\, E16 1XL\, United Kingdom
CATEGORIES:Rum Show
END:VEVENT
BEGIN:VEVENT
DTSTART;VALUE=DATE:20120918
DTEND;VALUE=DATE:20120920
DTSTAMP:20260419T235800
CREATED:20120129T223248Z
LAST-MODIFIED:20120129T223355Z
UID:1447-1347926400-1348099199@rum.charlosa.com
SUMMARY:Boutique Bar Show 2012 - London
DESCRIPTION:The home of The Boutique Bar Show for the last four years enjoy the light airy and spacious art deco surroundings of the Royal Horticultural Halls located centrally just 5 minutes walk from Victoria Station. With the UKBG Competition Bar\, international bar lounge and separate education area there is a lot to discover at Boutique Bar Show London.
URL:https://rum.charlosa.com/blog/event/boutique-bar-show-2012-london
LOCATION:Royal Horticultural Halls\, Lindley Hall\, 80 Vincent Square\, London\, SW1P 2PE\, United Kingdom
CATEGORIES:Rum Show
ORGANIZER;CN="Boutique Bar Show":MAILTO:info@boutiquebarshow.com
END:VEVENT
BEGIN:VEVENT
DTSTART;VALUE=DATE:20120703
DTEND;VALUE=DATE:20120705
DTSTAMP:20260419T235800
CREATED:20120124T003047Z
LAST-MODIFIED:20120125T170957Z
UID:1376-1341273600-1341446399@rum.charlosa.com
SUMMARY:Imbibe Live 2012
DESCRIPTION:Imbibe Live is the intelligent\, annual exhibition for anyone who buys or serves drinks within the licensed trade and is keen to improve their drinks offering and knowledge. \nLaunched onto the drinks scene less than 2 years ago\, Imbibe Live has firmly established itself as the must-attend drinks exhibition for the premium on-trade. Imbibe Live 2011 welcomed more than 7\,000 top on-trade buyers from around the UK. Visitors were introduced to 1\,000+ drinks brands and attended more than 40 different tastings\, demonstrations & seminars. \nImbibe Live 2012 will return on 3rd & 4th July at a new venue\, Olympia. If you missed the show this year then don’t miss out on 2012\, and the opportunity to visit a dynamic and engaging exhibition\, full of inspirational ideas\, invaluable networking opportunities\, and an unrivalled tasting and education programme.
URL:https://rum.charlosa.com/blog/event/imbibe-live-2012
LOCATION:Olympia\, Hammersmith Road\, London\, London\, W14 8UX\, United Kingdom
CATEGORIES:Rum Show
END:VEVENT
BEGIN:VEVENT
DTSTART;VALUE=DATE:20120416
DTEND;VALUE=DATE:20120423
DTSTAMP:20260419T235800
CREATED:20120124T233951Z
LAST-MODIFIED:20120125T171050Z
UID:1399-1334534400-1335139199@rum.charlosa.com
SUMMARY:Rum Renaissance 2012
DESCRIPTION:The Miami Rum Renaissance Festival is one of the world’s premier international rum events\, presenting a unique and exciting celebration of the fine arts of distillation\, maturing and blending fine cane spirits. \nEnjoy a full week of exclusive VIP parties at Miami’s most notable venues\, a grand two-day exhibition of the best rum brands\, the excitement of the Island Lifestyle Showcase\, celebrity seminars\, workshops and cocktail competitions\, the annual RumXP competition and awards\, an opportunity to rub shoulders with dignitaries and notable experts\, and more.
URL:https://rum.charlosa.com/blog/event/rum-renaissance
LOCATION:Deauvile Beach Resort\, 6701 Collins Avenue\, Miami Beach\, FL\, 33141\, United States
CATEGORIES:Rum Show
END:VEVENT
BEGIN:VEVENT
DTSTART;TZID=Europe/London:20120403T110000
DTEND;TZID=Europe/London:20120403T173059
DTSTAMP:20260419T235800
CREATED:20120124T235018Z
LAST-MODIFIED:20120129T223552Z
UID:1402-1333450800-1333474259@rum.charlosa.com
SUMMARY:Boutique Bar Show 2012 - Manchester
DESCRIPTION:The Boutique Bar Show is hosted within the stunning gothic inspired architecture of Manchester’s finest building. The Great Hall hosts 32 drinks companies with nearly 100 quality drinks brands to sample\, compare and learn about.
URL:https://rum.charlosa.com/blog/event/boutique-bar-show-manchester
LOCATION:Manchester Town Hall\, Albert Square\, Manchester\, Greater Manchester\, M60 2LA\, United Kingdom
CATEGORIES:Rum Show
ORGANIZER;CN="Boutique Bar Show":MAILTO:info@boutiquebarshow.com
END:VEVENT
END:VCALENDAR